BEGIN:VCALENDAR
VERSION:2.0
CALSCALE:GREGORIAN
PRODID:-//Diputació de Barcelona//DibaCMS//EN
BEGIN:VEVENT
UID:3784
DTSTAMP:20260421T035711
DTSTART:20211219T100000
DTEND:20211219T140000
SUMMARY:Cursa La Torronada i tastets solidaris d'spinning
LOCATION:Pl. Onze de Setembre 
METHOD:PUBLISH
X-WR-CALNAME:calldetenes@calldetenes.cat
X-WR-TIMEZONE:Europe/Madrid
DESCRIPTION:Cursa popular per terreny mix i classes d'spinning

URI:https://www.calldetenes.cat/lactualitat/agenda/cursa-la-torronada-i-tastets-solidaris-dspinning.html
CLASS:PUBLIC
END:VEVENT
END:VCALENDAR
