BEGIN:VCALENDAR
VERSION:2.0
CALSCALE:GREGORIAN
PRODID:-//Diputació de Barcelona//DibaCMS//EN
BEGIN:VEVENT
UID:3771
DTSTAMP:20260421T064927
DTSTART:20211028T203000
DTEND:20211028T230000
SUMMARY:Sessió Ple extraodinari
LOCATION:
METHOD:PUBLISH
X-WR-CALNAME:calldetenes@calldetenes.cat
X-WR-TIMEZONE:Europe/Madrid
DESCRIPTION:
URI:https://www.calldetenes.cat/lactualitat/agenda/sessio-ple-extraodinari.html
CLASS:PUBLIC
END:VEVENT
END:VCALENDAR
