BEGIN:VCALENDAR
VERSION:2.0
CALSCALE:GREGORIAN
PRODID:-//Diputació de Barcelona//DibaCMS//EN
BEGIN:VEVENT
UID:3484
DTSTAMP:20260421T110952
DTSTART:20210309T190000
DTEND:20210309T210000
SUMMARY:Portes Obertes ESO Visita guiada
LOCATION:
METHOD:PUBLISH
X-WR-CALNAME:calldetenes@calldetenes.cat
X-WR-TIMEZONE:Europe/Madrid
DESCRIPTION:Visita guiada. + info

URI:https://www.calldetenes.cat/lactualitat/agenda/portes-obertes-eso-visita-guiada.html
CLASS:PUBLIC
END:VEVENT
END:VCALENDAR
