BEGIN:VCALENDAR
VERSION:2.0
CALSCALE:GREGORIAN
PRODID:-//Diputació de Barcelona//DibaCMS//EN
BEGIN:VEVENT
UID:3442
DTSTAMP:20260421T124833
DTSTART:20210117T070000
DTEND:20210117T150000
SUMMARY:Mercat setmanal
LOCATION:
METHOD:PUBLISH
X-WR-CALNAME:calldetenes@calldetenes.cat
X-WR-TIMEZONE:Europe/Madrid
DESCRIPTION:Modificacions al mercat setmanal

Amb l'entrada en vigor de les noves mesures sanitàries, el mercat de Calldetenes només acollirà parades d'alimentació.

URI:https://www.calldetenes.cat/lactualitat/agenda/3442-mercat-setmanal.html
CLASS:PUBLIC
END:VEVENT
END:VCALENDAR
