BEGIN:VCALENDAR
VERSION:2.0
CALSCALE:GREGORIAN
PRODID:-//Diputació de Barcelona//DibaCMS//EN
BEGIN:VEVENT
UID:3429
DTSTAMP:20260421T110251
DTSTART:20210103T180000
DTEND:20210103T200000
SUMMARY:Bojos del bisturí
LOCATION:
METHOD:PUBLISH
X-WR-CALNAME:calldetenes@calldetenes.cat
X-WR-TIMEZONE:Europe/Madrid
DESCRIPTION:Representat per el grup local Espardenya Teatre

URI:https://www.calldetenes.cat/lactualitat/agenda/3429-bojos-del-bisturi.html
CLASS:PUBLIC
END:VEVENT
END:VCALENDAR
