BEGIN:VCALENDAR
VERSION:2.0
CALSCALE:GREGORIAN
PRODID:-//Diputació de Barcelona//DibaCMS//EN
BEGIN:VEVENT
UID:3405
DTSTAMP:20260421T121621
DTSTART:20201223T150000
DTEND:20201223T170000
SUMMARY:BiblioBus - duplicat
LOCATION:
METHOD:PUBLISH
X-WR-CALNAME:calldetenes@calldetenes.cat
X-WR-TIMEZONE:Europe/Madrid
DESCRIPTION:
URI:https://www.calldetenes.cat/lactualitat/agenda/bibliobus-duplicat.html
CLASS:PUBLIC
END:VEVENT
END:VCALENDAR
