BEGIN:VCALENDAR
VERSION:2.0
CALSCALE:GREGORIAN
PRODID:-//Diputació de Barcelona//DibaCMS//EN
BEGIN:VEVENT
UID:3401
DTSTAMP:20260421T140511
DTSTART:20201227T173000
DTEND:20201227T190000
SUMMARY:Adéu Bienvenida
LOCATION:
METHOD:PUBLISH
X-WR-CALNAME:calldetenes@calldetenes.cat
X-WR-TIMEZONE:Europe/Madrid
DESCRIPTION:La necessitat que s’acabin les coses perquè en tornin a començar de noves.
 

URI:https://www.calldetenes.cat/lactualitat/agenda/adeu-bienvenida.html
CLASS:PUBLIC
END:VEVENT
END:VCALENDAR
