BEGIN:VCALENDAR
VERSION:2.0
CALSCALE:GREGORIAN
PRODID:-//Diputació de Barcelona//DibaCMS//EN
BEGIN:VEVENT
UID:3400
DTSTAMP:20260421T123559
DTSTART:20201220T173000
DTEND:20201220T173000
SUMMARY:Poesia de Nadal
LOCATION:
METHOD:PUBLISH
X-WR-CALNAME:calldetenes@calldetenes.cat
X-WR-TIMEZONE:Europe/Madrid
DESCRIPTION:Toni Subirana canta la poesia de Nadal

URI:https://www.calldetenes.cat/lactualitat/agenda/poesia-de-nadal.html
CLASS:PUBLIC
END:VEVENT
END:VCALENDAR
