BEGIN:VCALENDAR
VERSION:2.0
CALSCALE:GREGORIAN
PRODID:-//Diputació de Barcelona//DibaCMS//EN
BEGIN:VEVENT
UID:3399
DTSTAMP:20260421T111157
DTSTART:20201231T100000
DTEND:20201231T130000
SUMMARY:Sorteig campanya de Nadal
LOCATION:
METHOD:PUBLISH
X-WR-CALNAME:calldetenes@calldetenes.cat
X-WR-TIMEZONE:Europe/Madrid
DESCRIPTION:El sorteig es farà en directe el dia 31 de desembre a les 10 del matí a la Sala de Plens de l’Ajuntament de Calldetenes

URI:https://www.calldetenes.cat/lactualitat/agenda/sorteig-campanya-de-nadal.html
CLASS:PUBLIC
END:VEVENT
END:VCALENDAR
