BEGIN:VCALENDAR
VERSION:2.0
CALSCALE:GREGORIAN
PRODID:-//Diputació de Barcelona//DibaCMS//EN
BEGIN:VEVENT
UID:3396
DTSTAMP:20260421T140124
DTSTART:20201212T200000
DTEND:20201212T230000
SUMMARY:Teatre 36 + 1
LOCATION:
METHOD:PUBLISH
X-WR-CALNAME:calldetenes@calldetenes.cat
X-WR-TIMEZONE:Europe/Madrid
DESCRIPTION:Un espectacle de creació, una teatralització que neix de la tria de quinze títols de 36 poemes a partir del 36.

URI:https://www.calldetenes.cat/lactualitat/agenda/teatre-36--1.html
CLASS:PUBLIC
END:VEVENT
END:VCALENDAR
