BEGIN:VCALENDAR
VERSION:2.0
CALSCALE:GREGORIAN
PRODID:-//Diputació de Barcelona//DibaCMS//EN
BEGIN:VEVENT
UID:3395
DTSTAMP:20260424T131349
DTSTART:20201206T100000
DTEND:20201206T140000
SUMMARY:Parada ponsèties escola Sant Marc
LOCATION:
METHOD:PUBLISH
X-WR-CALNAME:calldetenes@calldetenes.cat
X-WR-TIMEZONE:Europe/Madrid
DESCRIPTION:Parada de bus Avinguda Pau Casals

URI:https://www.calldetenes.cat/lactualitat/agenda/3395-parada-ponseties-escola-sant-marc.html
CLASS:PUBLIC
END:VEVENT
END:VCALENDAR
