BEGIN:VCALENDAR
VERSION:2.0
CALSCALE:GREGORIAN
PRODID:-//Diputació de Barcelona//DibaCMS//EN
BEGIN:VEVENT
UID:3349
DTSTAMP:20260421T154034
DTSTART:20200911T110000
DTEND:20200911T180000
SUMMARY:Actes de la Diada
LOCATION:
METHOD:PUBLISH
X-WR-CALNAME:calldetenes@calldetenes.cat
X-WR-TIMEZONE:Europe/Madrid
DESCRIPTION:Les entitats locals de l'ANC i CDR han organitzat una Diada adaptada a l'actual context sanitari.

El programa d'activitats serà:

A la Plaça Onze de Setembre:
A les 11h: Ofrena floral, parlament i música per la llibertat.
A les 16h: Sortida caminant fins a Sant Marc.

A Sant Marc:
A les 17.14h: Hissada de bandera, repic de campanes i cant dels segadors.

Cal mantenir la distància de seguretat i dur mascareta.

URI:https://www.calldetenes.cat/lactualitat/agenda/actes-de-la-diada.html
CLASS:PUBLIC
END:VEVENT
END:VCALENDAR
