BEGIN:VCALENDAR
VERSION:2.0
CALSCALE:GREGORIAN
PRODID:-//Diputació de Barcelona//DibaCMS//EN
BEGIN:VEVENT
UID:3246
DTSTAMP:20260421T141024
DTSTART:20200215T170000
DTEND:20200215T233000
SUMMARY:Karkamal 2020
LOCATION:
METHOD:PUBLISH
X-WR-CALNAME:calldetenes@calldetenes.cat
X-WR-TIMEZONE:Europe/Madrid
DESCRIPTION:
URI:https://www.calldetenes.cat/lactualitat/agenda/karkamal-2020.html
CLASS:PUBLIC
END:VEVENT
END:VCALENDAR
