BEGIN:VCALENDAR
VERSION:2.0
CALSCALE:GREGORIAN
PRODID:-//Diputació de Barcelona//DibaCMS//EN
BEGIN:VEVENT
UID:3185
DTSTAMP:20260421T152034
DTSTART:20191122T103000
DTEND:20191122T113000
SUMMARY:Visita de la Unitat Mòbil d'informació al consumidor
LOCATION:
METHOD:PUBLISH
X-WR-CALNAME:calldetenes@calldetenes.cat
X-WR-TIMEZONE:Europe/Madrid
DESCRIPTION:
URI:https://www.calldetenes.cat/lactualitat/agenda/visita-de-la-unitat-mobil-dinformacio-al-consumidor.html
CLASS:PUBLIC
END:VEVENT
END:VCALENDAR
