BEGIN:VCALENDAR
VERSION:2.0
CALSCALE:GREGORIAN
PRODID:-//Diputació de Barcelona//DibaCMS//EN
BEGIN:VEVENT
UID:2937
DTSTAMP:20260422T050020
DTSTART:20170625T000000
DTEND:20170625T000000
SUMMARY:Campionat de Bitlles Catalanes
LOCATION:
METHOD:PUBLISH
X-WR-CALNAME:calldetenes@calldetenes.cat
X-WR-TIMEZONE:Europe/Madrid
DESCRIPTION: A l'aparcament de davant de la SI Les Margues. 
URI:https://www.calldetenes.cat/lactualitat/agenda/campionat-de-bitlles-catalanes.html
CLASS:PUBLIC
END:VEVENT
END:VCALENDAR
