BEGIN:VCALENDAR
VERSION:2.0
CALSCALE:GREGORIAN
PRODID:-//Diputació de Barcelona//DibaCMS//EN
BEGIN:VEVENT
UID:2927
DTSTAMP:20260422T033356
DTSTART:20170531T000000
DTEND:20170531T000000
SUMMARY:Remodelació c.Gran i av.Pau Casals: últim dia per presentar propostes
LOCATION:
METHOD:PUBLISH
X-WR-CALNAME:calldetenes@calldetenes.cat
X-WR-TIMEZONE:Europe/Madrid
DESCRIPTION: Finalització del termini per presentar propostes al procés participatiu en relació a la remodelació del carrer Gran i l'avinguda Pau Casals. 
URI:https://www.calldetenes.cat/lactualitat/agenda/remodelacio-cgran-i-avpau-casals-ultim-dia-per-presentar-propostes.html
CLASS:PUBLIC
END:VEVENT
END:VCALENDAR
