BEGIN:VCALENDAR
VERSION:2.0
CALSCALE:GREGORIAN
PRODID:-//Diputació de Barcelona//DibaCMS//EN
BEGIN:VEVENT
UID:2926
DTSTAMP:20260422T045817
DTSTART:20170423T000000
DTEND:20170423T000000
SUMMARY:Estenem poesia per Sant Jordi
LOCATION:
METHOD:PUBLISH
X-WR-CALNAME:calldetenes@calldetenes.cat
X-WR-TIMEZONE:Europe/Madrid
DESCRIPTION: "Estenem Poesia" a Calldetenes  "Estenem Poesia" és una iniciativa d'Òmnium Cultural que consiteix en cobrir de poesia un espai emblamàtic d'un poble o ciutat. L'any passat es va fer alTemple Romà de Vic i enguany també es farà a la Plaça Vella de Calldetenes, a Prats de Lluçanès al safareig públic i a Sant Julià pel nucli antic. Òmnium Osona compta amb la col·laboració dels respectius ajuntaments i també d'altres entitats que s'hi han implicat de manera voluntària, com la revista local de l'Espiga de Calldetenes, el col·lectiu Fem Safareig de Prats de Lluçanès, el Patronat d'Estudis Osonencs i també, la Cava Poesia i la Fundació Verdaguer.   Es penjaran uns 2500 poemes aproximadament, d'una selecció de 150 poemes d'autors i autores de la comarca d'Osona. La gràcia de tot plegat és que tothom qui s'acosti a tots aquets indrets el dia de Sant Jordi podrà agafar les poesies que més li agradin. Qui ho vulgui podra penjar-hi les seves també. 
URI:https://www.calldetenes.cat/lactualitat/agenda/estenem-poesia-per-sant-jordi.html
CLASS:PUBLIC
END:VEVENT
END:VCALENDAR
