BEGIN:VCALENDAR
VERSION:2.0
CALSCALE:GREGORIAN
PRODID:-//Diputació de Barcelona//DibaCMS//EN
BEGIN:VEVENT
UID:2925
DTSTAMP:20260422T072341
DTSTART:20170415T000000
DTEND:20170417T000000
SUMMARY:Caramelles 2017
LOCATION:
METHOD:PUBLISH
X-WR-CALNAME:calldetenes@calldetenes.cat
X-WR-TIMEZONE:Europe/Madrid
DESCRIPTION: 
URI:https://www.calldetenes.cat/lactualitat/agenda/caramelles-2017.html
CLASS:PUBLIC
END:VEVENT
END:VCALENDAR
