BEGIN:VCALENDAR
VERSION:2.0
CALSCALE:GREGORIAN
PRODID:-//Diputació de Barcelona//DibaCMS//EN
BEGIN:VEVENT
UID:2922
DTSTAMP:20260422T085636
DTSTART:20170321T000000
DTEND:20170403T000000
SUMMARY:Inscripcions al Casal de Setmana Santa a l'Escola
LOCATION:
METHOD:PUBLISH
X-WR-CALNAME:calldetenes@calldetenes.cat
X-WR-TIMEZONE:Europe/Madrid
DESCRIPTION: Inscripcions al Casal de Setmana Santa a l’Escola  Inscripcions fins el 3 d’abril  Dates del Casal: del 10 al 13 d’abril  Organitza: Tallers Alquimia  Més informació i full d’inscripció al document pdf adjunt
URI:https://www.calldetenes.cat/lactualitat/agenda/inscripcions-al-casal-de-setmana-santa-a-lescola.html
CLASS:PUBLIC
END:VEVENT
END:VCALENDAR
