BEGIN:VCALENDAR
VERSION:2.0
CALSCALE:GREGORIAN
PRODID:-//Diputació de Barcelona//DibaCMS//EN
BEGIN:VEVENT
UID:2921
DTSTAMP:20260422T073944
DTSTART:20170404T000000
DTEND:20170404T000000
SUMMARY:Taller: "Decidim què estudiar" per alumnes de 4rt d'ESO
LOCATION:
METHOD:PUBLISH
X-WR-CALNAME:calldetenes@calldetenes.cat
X-WR-TIMEZONE:Europe/Madrid
DESCRIPTION: Taller: Decidim què estudiar  Dimarts 4 d’abril a les 18.30 h al Punt Jove de Calldetenes  Dirigit als alumnes de 4t ESO
URI:https://www.calldetenes.cat/lactualitat/agenda/taller-decidim-que-estudiar-per-alumnes-de-4rt-deso.html
CLASS:PUBLIC
END:VEVENT
END:VCALENDAR
