BEGIN:VCALENDAR
VERSION:2.0
CALSCALE:GREGORIAN
PRODID:-//Diputació de Barcelona//DibaCMS//EN
BEGIN:VEVENT
UID:2919
DTSTAMP:20260422T084752
DTSTART:20170309T000000
DTEND:20170309T000000
SUMMARY:Portes obertes SI Les Margues
LOCATION:
METHOD:PUBLISH
X-WR-CALNAME:calldetenes@calldetenes.cat
X-WR-TIMEZONE:Europe/Madrid
DESCRIPTION: Portes obertes SI Les Margues  Sessió informativa 1r d’ESO curs 2017-18  Dijous 9 de març a les 19h  Més informació a http://agora.xtec.cat/institutlesmargues/
URI:https://www.calldetenes.cat/lactualitat/agenda/portes-obertes-si-les-margues.html
CLASS:PUBLIC
END:VEVENT
END:VCALENDAR
