BEGIN:VCALENDAR
VERSION:2.0
CALSCALE:GREGORIAN
PRODID:-//Diputació de Barcelona//DibaCMS//EN
BEGIN:VEVENT
UID:2918
DTSTAMP:20260422T062258
DTSTART:20170212T000000
DTEND:20170218T000000
SUMMARY:Exposició"El Molí de la Calvaria de Calldetenes i l'ofici de moliner. La ruta dels molins del torrent de Riudeperes"
LOCATION:
METHOD:PUBLISH
X-WR-CALNAME:calldetenes@calldetenes.cat
X-WR-TIMEZONE:Europe/Madrid
DESCRIPTION:   Del 12 al 28 de febrer al vestíbul de l’Ajuntament de Calldetentes  Diumenge 12 de febrer de 10 h a 13.30 h  Els dilluns de 9 a 14.30 h i de 15.30 h a 17.30 h  De dimarts a divendres de 9 a 14.30 h    
URI:https://www.calldetenes.cat/lactualitat/agenda/exposicioel-moli-de-la-calvaria-de-calldetenes-i-lofici-de-moliner-la-ruta-dels-molins-del-torrent-de-riudeperes.html
CLASS:PUBLIC
END:VEVENT
END:VCALENDAR
