BEGIN:VCALENDAR
VERSION:2.0
CALSCALE:GREGORIAN
PRODID:-//Diputació de Barcelona//DibaCMS//EN
BEGIN:VEVENT
UID:2915
DTSTAMP:20260422T105153
DTSTART:20170422T213000
DTEND:20170422T000000
SUMMARY:All in - Premi BBVA de Teatre
LOCATION:
METHOD:PUBLISH
X-WR-CALNAME:calldetenes@calldetenes.cat
X-WR-TIMEZONE:Europe/Madrid
DESCRIPTION: Obra finalista del Premi BBVA de Teatre 2017  Més informació i entrades a www.teatrecalldetenes.cat  
URI:https://www.calldetenes.cat/lactualitat/agenda/all-in-premi-bbva-de-teatre.html
CLASS:PUBLIC
END:VEVENT
END:VCALENDAR
