BEGIN:VCALENDAR
VERSION:2.0
CALSCALE:GREGORIAN
PRODID:-//Diputació de Barcelona//DibaCMS//EN
BEGIN:VEVENT
UID:2914
DTSTAMP:20260422T192115
DTSTART:20170311T213000
DTEND:20170311T000000
SUMMARY:Teatre: Pretty
LOCATION:
METHOD:PUBLISH
X-WR-CALNAME:calldetenes@calldetenes.cat
X-WR-TIMEZONE:Europe/Madrid
DESCRIPTION: Venda d'entrades i més informació a www.teatrecalldetenes.cat  
URI:https://www.calldetenes.cat/lactualitat/agenda/teatre-pretty.html
CLASS:PUBLIC
END:VEVENT
END:VCALENDAR
