BEGIN:VCALENDAR
VERSION:2.0
CALSCALE:GREGORIAN
PRODID:-//Diputació de Barcelona//DibaCMS//EN
BEGIN:VEVENT
UID:2913
DTSTAMP:20260422T113216
DTSTART:20170119T000000
DTEND:20170430T000000
SUMMARY:Exposició de parelles artístiques
LOCATION:
METHOD:PUBLISH
X-WR-CALNAME:calldetenes@calldetenes.cat
X-WR-TIMEZONE:Europe/Madrid
DESCRIPTION: Exposició de parelles artístiques   Al Centre de Serveis de Calldetenes. Plaça Armand Quintana, s/n  De dilluns a divendres de 9 a 13 h i de 15 a 19 h  Fins a l’abril, inclòs
URI:https://www.calldetenes.cat/lactualitat/agenda/exposicio-de-parelles-artistiques.html
CLASS:PUBLIC
END:VEVENT
END:VCALENDAR
