BEGIN:VCALENDAR
VERSION:2.0
CALSCALE:GREGORIAN
PRODID:-//Diputació de Barcelona//DibaCMS//EN
BEGIN:VEVENT
UID:2912
DTSTAMP:20260422T105643
DTSTART:20170129T000000
DTEND:20170129T000000
SUMMARY:Recollida del pessebre a Matagalls
LOCATION:
METHOD:PUBLISH
X-WR-CALNAME:calldetenes@calldetenes.cat
X-WR-TIMEZONE:Europe/Madrid
DESCRIPTION: Recollida del pessebre a Matagalls  Diumenge 29 de gener  Sortida amb cotxes particulars a les 8h del matí des de davant del teatre.  Organitza: Club Excursionista Calldetenes
URI:https://www.calldetenes.cat/lactualitat/agenda/recollida-del-pessebre-a-matagalls.html
CLASS:PUBLIC
END:VEVENT
END:VCALENDAR
