BEGIN:VCALENDAR
VERSION:2.0
CALSCALE:GREGORIAN
PRODID:-//Diputació de Barcelona//DibaCMS//EN
BEGIN:VEVENT
UID:2911
DTSTAMP:20260422T063458
DTSTART:20170212T000000
DTEND:20170212T000000
SUMMARY:Festa dels Tonis
LOCATION:
METHOD:PUBLISH
X-WR-CALNAME:calldetenes@calldetenes.cat
X-WR-TIMEZONE:Europe/Madrid
DESCRIPTION:  9 h. Concentració de carruatges i muntures a l'aparcament de davant de l'institut. Esmorzar de pa torrat amb botifarra (preu simbòlic: 1 euro)  11 h. Sortida del passant i recorregut pels carrers de Calldetenes. A les 11.30 h, benedicció a la plaça Vella.  Matí i tarda. Passejades en poni a la plaça Onze de Setembre.   Matí. Exposició: “El Molí de la Calvaria de Calldetenes i l’ofici de moliner. La ruta dels molins del torrent de Riudeperes” al vestíbul de l’Ajuntament de Calldetenes.  Descarrageu-vos el programa adjunt!    EL MERCAT SETMANAL ES TRASLLADARÀ A LA ZONA DEL POLÍGON.     
URI:https://www.calldetenes.cat/lactualitat/agenda/2911-festa-dels-tonis.html
CLASS:PUBLIC
END:VEVENT
END:VCALENDAR
