BEGIN:VCALENDAR
VERSION:2.0
CALSCALE:GREGORIAN
PRODID:-//Diputació de Barcelona//DibaCMS//EN
BEGIN:VEVENT
UID:2910
DTSTAMP:20260422T100633
DTSTART:20170109T000000
DTEND:20170113T000000
SUMMARY:Tallers Alquimia d'Hivern
LOCATION:
METHOD:PUBLISH
X-WR-CALNAME:calldetenes@calldetenes.cat
X-WR-TIMEZONE:Europe/Madrid
DESCRIPTION: Tallers Alquima d’Hivern  Inscripcions fins el 13 de gener a http://alquimiavic.blogspot.com.es/tallers.html  Organitza: Tallers Alquimia        
URI:https://www.calldetenes.cat/lactualitat/agenda/2910-tallers-alquimia-dhivern.html
CLASS:PUBLIC
END:VEVENT
END:VCALENDAR
