BEGIN:VCALENDAR
VERSION:2.0
CALSCALE:GREGORIAN
PRODID:-//Diputació de Barcelona//DibaCMS//EN
BEGIN:VEVENT
UID:2909
DTSTAMP:20260422T095958
DTSTART:20161220T000000
DTEND:20170102T000000
SUMMARY:Exposició: curs Alquimia de Fotografia
LOCATION:
METHOD:PUBLISH
X-WR-CALNAME:calldetenes@calldetenes.cat
X-WR-TIMEZONE:Europe/Madrid
DESCRIPTION:   Del 20 de desembre al 2 de gener  Vestíbul de l’Ajuntament de Calldetenes
URI:https://www.calldetenes.cat/lactualitat/agenda/exposicio-curs-alquimia-de-fotografia.html
CLASS:PUBLIC
END:VEVENT
END:VCALENDAR
