BEGIN:VCALENDAR
VERSION:2.0
CALSCALE:GREGORIAN
PRODID:-//Diputació de Barcelona//DibaCMS//EN
BEGIN:VEVENT
UID:2908
DTSTAMP:20260422T084900
DTSTART:20170105T000000
DTEND:20170105T000000
SUMMARY:Cavalcada de Reis i concurs de fanalets
LOCATION:
METHOD:PUBLISH
X-WR-CALNAME:calldetenes@calldetenes.cat
X-WR-TIMEZONE:Europe/Madrid
DESCRIPTION: Cavalcada de Reis i concurs de fanalets  Recorregut de Ses Majestats pels carrers de Calldetenes  Discurs des del balcó  Els fanalets es recolliran al finalitzar la cavalcada al vestíbul de l’Ajuntament per exposar-los. Hi haurà 3 premis i obsequis per tots els participants.  Al final, sorteig de les experiències de la campanya de Nadal dels comerciants.
URI:https://www.calldetenes.cat/lactualitat/agenda/cavalcada-de-reis-i-concurs-de-fanalets.html
CLASS:PUBLIC
END:VEVENT
END:VCALENDAR
