BEGIN:VCALENDAR
VERSION:2.0
CALSCALE:GREGORIAN
PRODID:-//Diputació de Barcelona//DibaCMS//EN
BEGIN:VEVENT
UID:2907
DTSTAMP:20260422T101116
DTSTART:20161218T000000
DTEND:20170108T000000
SUMMARY:32ª MOSTRA DE PESSEBRES
LOCATION:
METHOD:PUBLISH
X-WR-CALNAME:calldetenes@calldetenes.cat
X-WR-TIMEZONE:Europe/Madrid
DESCRIPTION: 32ª MOSTRA DE PESSEBRES  Modalitats artística i popular  18, 25 i 26 de desembre de 2016  1, 6 i 8 de gener de 2017  D’11.30 a 13.30 h i de 17.30 a 20 h  Entrada Gratuïta  Al Casal Parroquial  Grup Pessebrista Calldetenes    
URI:https://www.calldetenes.cat/lactualitat/agenda/32a-mostra-de-pessebres.html
CLASS:PUBLIC
END:VEVENT
END:VCALENDAR
