BEGIN:VCALENDAR
VERSION:2.0
CALSCALE:GREGORIAN
PRODID:-//Diputació de Barcelona//DibaCMS//EN
BEGIN:VEVENT
UID:2906
DTSTAMP:20260422T091819
DTSTART:20161126T000000
DTEND:20161126T000000
SUMMARY:Concert i subhasta solidària per Open Arms
LOCATION:
METHOD:PUBLISH
X-WR-CALNAME:calldetenes@calldetenes.cat
X-WR-TIMEZONE:Europe/Madrid
DESCRIPTION:   Dissabte 26 de novembre a les 20.30h  A l’Auditori Teatre Calldetenes  Entrada: 10 €  Entrades fila zero.   Més informació i entrades a www.teatrecalldetenes.cat       
URI:https://www.calldetenes.cat/lactualitat/agenda/concert-i-subhasta-solidaria-per-open-arms.html
CLASS:PUBLIC
END:VEVENT
END:VCALENDAR
