BEGIN:VCALENDAR
VERSION:2.0
CALSCALE:GREGORIAN
PRODID:-//Diputació de Barcelona//DibaCMS//EN
BEGIN:VEVENT
UID:2905
DTSTAMP:20260422T113246
DTSTART:20161111T000000
DTEND:20161119T000000
SUMMARY:Setmana de la Ciència 2016
LOCATION:
METHOD:PUBLISH
X-WR-CALNAME:calldetenes@calldetenes.cat
X-WR-TIMEZONE:Europe/Madrid
DESCRIPTION: 
URI:https://www.calldetenes.cat/lactualitat/agenda/setmana-de-la-ciencia-2016.html
CLASS:PUBLIC
END:VEVENT
END:VCALENDAR
