BEGIN:VCALENDAR
VERSION:2.0
CALSCALE:GREGORIAN
PRODID:-//Diputació de Barcelona//DibaCMS//EN
BEGIN:VEVENT
UID:2903
DTSTAMP:20260423T044140
DTSTART:20161114T000000
DTEND:20161114T000000
SUMMARY:Gas Natural: Oficina d'atenció al consumidor
LOCATION:
METHOD:PUBLISH
X-WR-CALNAME:calldetenes@calldetenes.cat
X-WR-TIMEZONE:Europe/Madrid
DESCRIPTION: Dilluns 14 de novembre i dijous 17 de novembre.  De 12 h a 14 h a l’edifici de l’Ajuntament de Calldetenes.  Reserveu cita prèvia i hora presencialment a les oficines de l’Ajuntament o per telèfon al 93 886 31 05.
URI:https://www.calldetenes.cat/lactualitat/agenda/gas-natural-oficina-datencio-al-consumidor.html
CLASS:PUBLIC
END:VEVENT
END:VCALENDAR
