BEGIN:VCALENDAR
VERSION:2.0
CALSCALE:GREGORIAN
PRODID:-//Diputació de Barcelona//DibaCMS//EN
BEGIN:VEVENT
UID:2902
DTSTAMP:20260422T084742
DTSTART:20170108T000000
DTEND:20170108T000000
SUMMARY:III Tirada Cap d'Any de Bitlles Catalanes
LOCATION:
METHOD:PUBLISH
X-WR-CALNAME:calldetenes@calldetenes.cat
X-WR-TIMEZONE:Europe/Madrid
DESCRIPTION: 
URI:https://www.calldetenes.cat/lactualitat/agenda/iii-tirada-cap-dany-de-bitlles-catalanes.html
CLASS:PUBLIC
END:VEVENT
END:VCALENDAR
