BEGIN:VCALENDAR
VERSION:2.0
CALSCALE:GREGORIAN
PRODID:-//Diputació de Barcelona//DibaCMS//EN
BEGIN:VEVENT
UID:2901
DTSTAMP:20260422T074045
DTSTART:20161113T000000
DTEND:20161113T000000
SUMMARY:Aplec de Sant Martí
LOCATION:
METHOD:PUBLISH
X-WR-CALNAME:calldetenes@calldetenes.cat
X-WR-TIMEZONE:Europe/Madrid
DESCRIPTION: 9.30h Esmorzar popular: pa torrat amb arengades  10.00h Missa solemne  11.00h Ballada de sardanes amb mitjans mecànics     A L'ERA I A L'ESGLÉSIA DE SANT MARTÍ DE RIUDEPERES  
URI:https://www.calldetenes.cat/lactualitat/agenda/aplec-de-sant-marti.html
CLASS:PUBLIC
END:VEVENT
END:VCALENDAR
