BEGIN:VCALENDAR
VERSION:2.0
CALSCALE:GREGORIAN
PRODID:-//Diputació de Barcelona//DibaCMS//EN
BEGIN:VEVENT
UID:2900
DTSTAMP:20260422T080635
DTSTART:20161004T000000
DTEND:20161024T000000
SUMMARY:Inscripcions a la sortida jove a Port Aventura2016
LOCATION:
METHOD:PUBLISH
X-WR-CALNAME:calldetenes@calldetenes.cat
X-WR-TIMEZONE:Europe/Madrid
DESCRIPTION: 
URI:https://www.calldetenes.cat/lactualitat/agenda/2900-inscripcions-a-la-sortida-jove-a-port-aventura2016.html
CLASS:PUBLIC
END:VEVENT
END:VCALENDAR
