BEGIN:VCALENDAR
VERSION:2.0
CALSCALE:GREGORIAN
PRODID:-//Diputació de Barcelona//DibaCMS//EN
BEGIN:VEVENT
UID:2899
DTSTAMP:20260422T073913
DTSTART:20161007T000000
DTEND:20161222T000000
SUMMARY:Curs de còmic, manga i il·lustració
LOCATION:
METHOD:PUBLISH
X-WR-CALNAME:calldetenes@calldetenes.cat
X-WR-TIMEZONE:Europe/Madrid
DESCRIPTION: Després d'aquest calorós estiu, ja torna a estar aquí el nou curs de còmic, manga i il·lustració de Calldetenes. On els vostres fills podran desenvolupar la seva creativitat, imaginació i habilitat per il·lustrar i crear còmics o mangues amb el seu propi estil, alhora que passen una bona estona.  El curs s'adapta al nivell i necessitats de cada alumne, és a dir, és un curs totalment personalitzat, i cada alumne evoluciona al seu pas. A més es treballa amb un grup reduït d'alumnes per poder fer un bon seguiment de cada un. L'activitat esta pensada per a joves a partir de 11 anys i fins a 17 anys.  Les places són limitades i la inscripció ja esta oberta. L'inici de les classes és divendres 7 d'octubre. El preu és de 32,00 € el mes i una matrícula de 30,00 €, el material esta tot inclòs. L'horari de les classes és el divendres de 16:00 h. a 17:30 h., al Local d'Entitats de l'Ajuntament, Plç. Onze de Setembre s/n de Calldetenes. Pots venir a fer una classe gratuïta de prova!  Per inscripcions o més informació podeu contactar al mobil 677 613 096 o a estuditresllunes@gmail.com.    
URI:https://www.calldetenes.cat/lactualitat/agenda/curs-de-comic-manga-i-illustracio.html
CLASS:PUBLIC
END:VEVENT
END:VCALENDAR
