BEGIN:VCALENDAR
VERSION:2.0
CALSCALE:GREGORIAN
PRODID:-//Diputació de Barcelona//DibaCMS//EN
BEGIN:VEVENT
UID:2898
DTSTAMP:20260422T113039
DTSTART:20161112T213000
DTEND:20161112T000000
SUMMARY:Teatre: Vremya Musei
LOCATION:
METHOD:PUBLISH
X-WR-CALNAME:calldetenes@calldetenes.cat
X-WR-TIMEZONE:Europe/Madrid
DESCRIPTION: La Comèdia més russa que les comèdies russes.  Informació i entrades a ww.w.teatrecalldetenes.cat  
URI:https://www.calldetenes.cat/lactualitat/agenda/teatre-vremya-musei.html
CLASS:PUBLIC
END:VEVENT
END:VCALENDAR
