BEGIN:VCALENDAR
VERSION:2.0
CALSCALE:GREGORIAN
PRODID:-//Diputació de Barcelona//DibaCMS//EN
BEGIN:VEVENT
UID:2897
DTSTAMP:20260422T105927
DTSTART:20161023T173000
DTEND:20161127T000000
SUMMARY:CallTitellesdeTenes
LOCATION:
METHOD:PUBLISH
X-WR-CALNAME:calldetenes@calldetenes.cat
X-WR-TIMEZONE:Europe/Madrid
DESCRIPTION: Entrades i més informació a www.teatrecalldetenes.cat  
URI:https://www.calldetenes.cat/lactualitat/agenda/calltitellesdetenes.html
CLASS:PUBLIC
END:VEVENT
END:VCALENDAR
