BEGIN:VCALENDAR
VERSION:2.0
CALSCALE:GREGORIAN
PRODID:-//Diputació de Barcelona//DibaCMS//EN
BEGIN:VEVENT
UID:2896
DTSTAMP:20260422T103534
DTSTART:20161015T213000
DTEND:20161015T000000
SUMMARY:Teatre: El Pillo
LOCATION:
METHOD:PUBLISH
X-WR-CALNAME:calldetenes@calldetenes.cat
X-WR-TIMEZONE:Europe/Madrid
DESCRIPTION: Humor amb majúscules. El tercer espectacle de la trilogia de Marcel Tomàs.   Més informació i entrades anticipades a www.teatrecalldetenes.cat     
URI:https://www.calldetenes.cat/lactualitat/agenda/teatre-el-pillo.html
CLASS:PUBLIC
END:VEVENT
END:VCALENDAR
