BEGIN:VCALENDAR
VERSION:2.0
CALSCALE:GREGORIAN
PRODID:-//Diputació de Barcelona//DibaCMS//EN
BEGIN:VEVENT
UID:2895
DTSTAMP:20260422T150243
DTSTART:20160920T000000
DTEND:20160925T000000
SUMMARY:Exposició d'artistes locals i "Un clic de l'Eudald"
LOCATION:
METHOD:PUBLISH
X-WR-CALNAME:calldetenes@calldetenes.cat
X-WR-TIMEZONE:Europe/Madrid
DESCRIPTION: Al vestíbul de l'Ajuntament de Calldetenes, en motiu de la Festa Major 2016, podeu visitar l'Exposició d'Artistes Locals, juntament amb l'exposició d'homenatge "Un clic de l'Eudald: fauna de muntanya", i les fotografies antigues recollides per l'Agrupació Fotogràfica Calldetenes.  
URI:https://www.calldetenes.cat/lactualitat/agenda/exposicio-dartistes-locals-i-un-clic-de-leudald.html
CLASS:PUBLIC
END:VEVENT
END:VCALENDAR
