BEGIN:VCALENDAR
VERSION:2.0
CALSCALE:GREGORIAN
PRODID:-//Diputació de Barcelona//DibaCMS//EN
BEGIN:VEVENT
UID:2894
DTSTAMP:20260422T092133
DTSTART:20161002T000000
DTEND:20161002T000000
SUMMARY:El Florido Pensil amb l'Espardenya Teatre
LOCATION:
METHOD:PUBLISH
X-WR-CALNAME:calldetenes@calldetenes.cat
X-WR-TIMEZONE:Europe/Madrid
DESCRIPTION: Més informació i entrades a www.teatrecalldetenes.cat   
URI:https://www.calldetenes.cat/lactualitat/agenda/el-florido-pensil-amb-lespardenya-teatre.html
CLASS:PUBLIC
END:VEVENT
END:VCALENDAR
