BEGIN:VCALENDAR
VERSION:2.0
CALSCALE:GREGORIAN
PRODID:-//Diputació de Barcelona//DibaCMS//EN
BEGIN:VEVENT
UID:2892
DTSTAMP:20260422T103025
DTSTART:20161015T000000
DTEND:20161015T000000
SUMMARY:Conferència: Un cas atípic i extrem de Masoquisme
LOCATION:
METHOD:PUBLISH
X-WR-CALNAME:calldetenes@calldetenes.cat
X-WR-TIMEZONE:Europe/Madrid
DESCRIPTION: Cicle de conferències de tardor del Grup C3
URI:https://www.calldetenes.cat/lactualitat/agenda/conferencia-un-cas-atipic-i-extrem-de-masoquisme.html
CLASS:PUBLIC
END:VEVENT
END:VCALENDAR
