BEGIN:VCALENDAR
VERSION:2.0
CALSCALE:GREGORIAN
PRODID:-//Diputació de Barcelona//DibaCMS//EN
BEGIN:VEVENT
UID:2891
DTSTAMP:20260422T125920
DTSTART:20160911T103000
DTEND:20160911T000000
SUMMARY:Diada de Catalunya
LOCATION:
METHOD:PUBLISH
X-WR-CALNAME:calldetenes@calldetenes.cat
X-WR-TIMEZONE:Europe/Madrid
DESCRIPTION: IMPORTANT: Els autobusos cap a Berga sortiran de la plaça Armand Quintana.       
URI:https://www.calldetenes.cat/lactualitat/agenda/diada-de-catalunya.html
CLASS:PUBLIC
END:VEVENT
END:VCALENDAR
