BEGIN:VCALENDAR
VERSION:2.0
CALSCALE:GREGORIAN
PRODID:-//Diputació de Barcelona//DibaCMS//EN
BEGIN:VEVENT
UID:2890
DTSTAMP:20260422T132224
DTSTART:20160906T000000
DTEND:20161002T000000
SUMMARY:Festa Major de Calldetenes 2016
LOCATION:
METHOD:PUBLISH
X-WR-CALNAME:calldetenes@calldetenes.cat
X-WR-TIMEZONE:Europe/Madrid
DESCRIPTION:   Del 6 de setembre al 2 d’octubre       
URI:https://www.calldetenes.cat/lactualitat/agenda/festa-major-de-calldetenes-2016.html
CLASS:PUBLIC
END:VEVENT
END:VCALENDAR
