BEGIN:VCALENDAR
VERSION:2.0
CALSCALE:GREGORIAN
PRODID:-//Diputació de Barcelona//DibaCMS//EN
BEGIN:VEVENT
UID:2889
DTSTAMP:20260422T132124
DTSTART:20160914T000000
DTEND:20160914T000000
SUMMARY:Presentació del Club de Lectura de Calldetenes
LOCATION:
METHOD:PUBLISH
X-WR-CALNAME:calldetenes@calldetenes.cat
X-WR-TIMEZONE:Europe/Madrid
DESCRIPTION:   Dimecres 14 de setembre a les 18h al vestíbul de l’Ajuntament de Calldetenes    
URI:https://www.calldetenes.cat/lactualitat/agenda/presentacio-del-club-de-lectura-de-calldetenes.html
CLASS:PUBLIC
END:VEVENT
END:VCALENDAR
