BEGIN:VCALENDAR
VERSION:2.0
CALSCALE:GREGORIAN
PRODID:-//Diputació de Barcelona//DibaCMS//EN
BEGIN:VEVENT
UID:2888
DTSTAMP:20260422T132254
DTSTART:20160909T000000
DTEND:20160909T000000
SUMMARY:Marxa dels Vigatans. Columna de Calldetenes
LOCATION:
METHOD:PUBLISH
X-WR-CALNAME:calldetenes@calldetenes.cat
X-WR-TIMEZONE:Europe/Madrid
DESCRIPTION:   Divendres 9 de setembre  Sortida de la Columna de Calldetenes a les 19.30h de la plaça Onze de Setembre.   La Marxa dels Vigatans, organitzada per Òmnium Cultural, tindrà lloc el dia 9 de setembre a la plaça Major de Vic, i comptarà amb la tradicional marxa de torxes i l’espectacle de Comediants. Enguany es planteja el repte d'il•luminar la plaça amb milers de torxes i varetes lluminoses. Tots els participants s'han d'inscriure prèviament al web www.marxadelsvigatans.com i reservar la seva torxa.
URI:https://www.calldetenes.cat/lactualitat/agenda/2888-marxa-dels-vigatans-columna-de-calldetenes.html
CLASS:PUBLIC
END:VEVENT
END:VCALENDAR
