BEGIN:VCALENDAR
VERSION:2.0
CALSCALE:GREGORIAN
PRODID:-//Diputació de Barcelona//DibaCMS//EN
BEGIN:VEVENT
UID:2887
DTSTAMP:20260422T115450
DTSTART:20160919T000000
DTEND:20160825T000000
SUMMARY:XXXII Exposició d’artistes locals
LOCATION:
METHOD:PUBLISH
X-WR-CALNAME:calldetenes@calldetenes.cat
X-WR-TIMEZONE:Europe/Madrid
DESCRIPTION:   Del 19 al 25 de setembre. Al vestíbul de l’Ajuntament.  Vols participar-hi? Truca a les oficines de l’Ajuntament (93 886 31 05) i digues-nos quines obres vols portar (mides, títol i tècniques).  Inauguració de l’exposició el dilluns 19 de setembre a les 20h.  
URI:https://www.calldetenes.cat/lactualitat/agenda/xxxii-exposicio-dartistes-locals.html
CLASS:PUBLIC
END:VEVENT
END:VCALENDAR
