BEGIN:VCALENDAR
VERSION:2.0
CALSCALE:GREGORIAN
PRODID:-//Diputació de Barcelona//DibaCMS//EN
BEGIN:VEVENT
UID:2886
DTSTAMP:20260422T063515
DTSTART:20161001T000000
DTEND:20161001T000000
SUMMARY:V Ral·li Fotogràfic Calldetenes
LOCATION:
METHOD:PUBLISH
X-WR-CALNAME:calldetenes@calldetenes.cat
X-WR-TIMEZONE:Europe/Madrid
DESCRIPTION: V Ral·li Fotogràfic Calldetenes  Dissabte 1 d’octubre a la tarda  Activitat inclosa dins la Festa Major i la Fira de la Mercè  Organitza: Agrupació Fotogràfica Calldetenes  
URI:https://www.calldetenes.cat/lactualitat/agenda/v-ralli-fotografic-calldetenes.html
CLASS:PUBLIC
END:VEVENT
END:VCALENDAR
